BEGIN:VCALENDAR
VERSION:2.0
PRODID:-//eventon.com NONSGML v1.0//EN
CALSCALE:GREGORIAN
METHOD:PUBLISH
BEGIN:VEVENT
UID:69ea7dd91640e
DTSTAMP:20260423T201521Z
DTSTART:20260628T073000Z
DTEND:20260628T120000Z
LOCATION:Canwood Gallery Canwood Gallery
SUMMARY:Canwood Endurance ride
DESCRIPTION:Like a Steady ride\,  but longer: usually over 80 miles with no
  short route home from coffee. Lunch will be near Woolhope or Much Marcle. 
 Good stamina and food supplies are needed. Average speed 12 to 15mph. Check
  with the Captain for details.\nhttps://www.gloscitycc.co.uk/events/canwood
 -endurance-ride/
URL:https://www.gloscitycc.co.uk/events/canwood-endurance-ride/
END:VEVENT
END:VCALENDAR