BEGIN:VCALENDAR
VERSION:2.0
PRODID:-//eventon.com NONSGML v1.0//EN
CALSCALE:GREGORIAN
METHOD:PUBLISH
BEGIN:VEVENT
UID:69ea27c32cd7b
DTSTAMP:20260423T140803Z
DTSTART:20260412T080000Z
DTEND:20260412T110000Z
LOCATION:Kings Square Gloucester GL1 1AD
SUMMARY:Fast Loop Ride
DESCRIPTION:Route details to follow during the week before the ride. Time s
 till TBD\nhttps://www.gloscitycc.co.uk/events/fast-loop-ride-9/
URL:https://www.gloscitycc.co.uk/events/fast-loop-ride-9/
END:VEVENT
END:VCALENDAR