BEGIN:VCALENDAR
VERSION:2.0
PRODID:-//eventon.com NONSGML v1.0//EN
CALSCALE:GREGORIAN
METHOD:PUBLISH
BEGIN:VEVENT
UID:69e773a97af90
DTSTAMP:20260421T125505Z
DTSTART:20260311T203000Z
DTEND:20260311T213000Z
LOCATION:The Pelican Inn 4 St Mary's St
SUMMARY:Club ride calendar planning meeting
DESCRIPTION:The meeting&#8217;s objective is to finalise the Club ride cale
 ndar for May to August.\nhttps://www.gloscitycc.co.uk/events/club-ride-cale
 ndar-planning-meeting/
URL:https://www.gloscitycc.co.uk/events/club-ride-calendar-planning-meeting/
END:VEVENT
END:VCALENDAR