BEGIN:VCALENDAR
VERSION:2.0
PRODID:-//eventon.com NONSGML v1.0//EN
CALSCALE:GREGORIAN
METHOD:PUBLISH
BEGIN:VEVENT
UID:69e5ee3f941c1
DTSTAMP:20260420T091335Z
DTSTART:20260301T090000Z
DTEND:20260301T120000Z
LOCATION:Kings Square Gloucester GL1 1AD
SUMMARY:Fast loop ride
DESCRIPTION:Fast loop ride\nhttps://www.gloscitycc.co.uk/events/fast-loop-r
 ide-copy-2/
URL:https://www.gloscitycc.co.uk/events/fast-loop-ride-copy-2/
END:VEVENT
END:VCALENDAR