BEGIN:VCALENDAR
VERSION:2.0
PRODID:-//eventon.com NONSGML v1.0//EN
CALSCALE:GREGORIAN
METHOD:PUBLISH
BEGIN:VEVENT
UID:69e602eb60a49
DTSTAMP:20260420T104147Z
DTSTART:20260315T090000Z
DTEND:20260315T130000Z
LOCATION:Newnham: Silver Fox Café Silver Fox Cafe\,  Broadoak\,  GL14 1JB
SUMMARY:Tempo ride
DESCRIPTION:\nhttps://www.gloscitycc.co.uk/events/tempo-ride-copy-4/
URL:https://www.gloscitycc.co.uk/events/tempo-ride-copy-4/
END:VEVENT
END:VCALENDAR