BEGIN:VCALENDAR
VERSION:2.0
PRODID:-//eventon.com NONSGML v1.0//EN
CALSCALE:GREGORIAN
METHOD:PUBLISH
BEGIN:VEVENT
UID:69e773d49e1db
DTSTAMP:20260421T125548Z
DTSTART:20260616T180000Z
DTEND:20260616T193000Z
LOCATION:U72 Start Blacksmith's Lane
SUMMARY:Maisemore 25 mile TT
DESCRIPTION:Course details are here. Pendock (UC101) is the alternative cou
 rse.Registration closes 15 minutes before start time\nhttps://www.gloscityc
 c.co.uk/events/maisemore-25-mile-tt-copy-3/
URL:https://www.gloscitycc.co.uk/events/maisemore-25-mile-tt-copy-3/
END:VEVENT
END:VCALENDAR