BEGIN:VCALENDAR
VERSION:2.0
PRODID:-//eventon.com NONSGML v1.0//EN
CALSCALE:GREGORIAN
METHOD:PUBLISH
BEGIN:VEVENT
UID:69e6029195016
DTSTAMP:20260420T104017Z
DTSTART:20260714T180000Z
DTEND:20260714T193000Z
LOCATION:UC713 Start UC713
SUMMARY:Staunton 10 mile TT
DESCRIPTION:Course details are here. Pendock (UC101) is the alternative cou
 rse.Registration closes 15 minutes before start time\nhttps://www.gloscityc
 c.co.uk/events/staunton-10-mile-tt-9/
URL:https://www.gloscitycc.co.uk/events/staunton-10-mile-tt-9/
END:VEVENT
END:VCALENDAR