BEGIN:VCALENDAR
VERSION:2.0
PRODID:-//eventon.com NONSGML v1.0//EN
CALSCALE:GREGORIAN
METHOD:PUBLISH
BEGIN:VEVENT
UID:69e64fe32f70a
DTSTAMP:20260420T161011Z
DTSTART:20260825T174500Z
DTEND:20260825T183000Z
LOCATION:UC189 start UC189
SUMMARY:Elmore roadman's 6½ mile TT
DESCRIPTION:Course details are here. Pendock (UC101A) is the alternative co
 urse. Registration closes 15 minutes before start time.\nhttps://www.glosci
 tycc.co.uk/events/elmore-roadmans-6%c2%bd-mile-tt-3/
URL:https://www.gloscitycc.co.uk/events/elmore-roadmans-6%c2%bd-mile-tt-3/
END:VEVENT
END:VCALENDAR