BEGIN:VCALENDAR
VERSION:2.0
PRODID:-//eventon.com NONSGML v1.0//EN
CALSCALE:GREGORIAN
METHOD:PUBLISH
BEGIN:VEVENT
UID:69eb06e1ca137
DTSTAMP:20260424T060001Z
DTSTART:20260630T180000Z
DTEND:20260630T193000Z
LOCATION:UC101 start UC101
SUMMARY:Pendock 19 mile TT
DESCRIPTION:Course details are here. Maisemore (U72) is the alternative cou
 rse.Registration closes 15 minutes before start time\nhttps://www.gloscityc
 c.co.uk/events/pendock-19-mile-tt-5/
URL:https://www.gloscitycc.co.uk/events/pendock-19-mile-tt-5/
END:VEVENT
END:VCALENDAR