BEGIN:VCALENDAR
VERSION:2.0
PRODID:-//eventon.com NONSGML v1.0//EN
CALSCALE:GREGORIAN
METHOD:PUBLISH
BEGIN:VEVENT
UID:69ed79562639a
DTSTAMP:20260426T023254Z
DTSTART:20260414T180000Z
DTEND:20260414T190000Z
LOCATION:UC713 Start UC713
SUMMARY:Staunton 10 mile TT
DESCRIPTION:Course details are here. We are using the reserve course\,  Sta
 unton (UC713)\,  due to traffic lights on the Pendock course. Registration 
 closes 15 minutes before start time\nhttps://www.gloscitycc.co.uk/events/pe
 ndock-9%c2%bd-mile-tt/
URL:https://www.gloscitycc.co.uk/events/pendock-9%c2%bd-mile-tt/
END:VEVENT
END:VCALENDAR