BEGIN:VCALENDAR
VERSION:2.0
PRODID:-//eventon.com NONSGML v1.0//EN
CALSCALE:GREGORIAN
METHOD:PUBLISH
BEGIN:VEVENT
UID:69ebef030cd13
DTSTAMP:20260424T223027Z
DTSTART:20260804T180000Z
DTEND:20260804T193000Z
LOCATION:U72 Start Blacksmith's Lane
SUMMARY:Maisemore 25 mile TT
DESCRIPTION:Course details are here. Pendock (UC101) is the alternative cou
 rse.\nhttps://www.gloscitycc.co.uk/events/maisemore-25-mile-tt-copy-2/
URL:https://www.gloscitycc.co.uk/events/maisemore-25-mile-tt-copy-2/
END:VEVENT
END:VCALENDAR