BEGIN:VCALENDAR
VERSION:2.0
PRODID:-//eventon.com NONSGML v1.0//EN
CALSCALE:GREGORIAN
METHOD:PUBLISH
BEGIN:VEVENT
UID:69ed799939da8
DTSTAMP:20260426T023401Z
DTSTART:20260405T073000Z
DTEND:20260405T120000Z
LOCATION:
SUMMARY:Stroud Novice (A) ride
DESCRIPTION:Stroud Novice (A) ride\nhttps://www.gloscitycc.co.uk/events/str
 oud-novice-a-ride/
URL:https://www.gloscitycc.co.uk/events/stroud-novice-a-ride/
END:VEVENT
END:VCALENDAR