BEGIN:VCALENDAR
VERSION:2.0
PRODID:-//eventon.com NONSGML v1.0//EN
CALSCALE:GREGORIAN
METHOD:PUBLISH
BEGIN:VEVENT
UID:69e4fe756f15c
DTSTAMP:20260419T161029Z
DTSTART:20260428T083000Z
DTEND:20260428T093000Z
LOCATION:A38/Longford Lane
SUMMARY:Daytime paceline
DESCRIPTION:Pace-line ride following chain-gang route to Tewkesbury and bac
 k.  Finishes with coffee at the Greek deli by the lock.\nhttps://www.glosc
 itycc.co.uk/events/daytime-paceline/var/ri-25.l-L1
URL:https://www.gloscitycc.co.uk/events/daytime-paceline/var/ri-25.l-L1
END:VEVENT
END:VCALENDAR