BEGIN:VCALENDAR
VERSION:2.0
PRODID:-//Gloucester City Cycling Club - ECPv6.15.20//NONSGML v1.0//EN
CALSCALE:GREGORIAN
METHOD:PUBLISH
X-WR-CALNAME:Gloucester City Cycling Club
X-ORIGINAL-URL:https://www.gloscitycc.co.uk
X-WR-CALDESC:Events for Gloucester City Cycling Club
REFRESH-INTERVAL;VALUE=DURATION:PT1H
X-Robots-Tag:noindex
X-PUBLISHED-TTL:PT1H
BEGIN:VTIMEZONE
TZID:Europe/London
BEGIN:DAYLIGHT
TZOFFSETFROM:+0000
TZOFFSETTO:+0100
TZNAME:BST
DTSTART:20150329T010000
END:DAYLIGHT
BEGIN:STANDARD
TZOFFSETFROM:+0100
TZOFFSETTO:+0000
TZNAME:GMT
DTSTART:20151025T010000
END:STANDARD
BEGIN:DAYLIGHT
TZOFFSETFROM:+0000
TZOFFSETTO:+0100
TZNAME:BST
DTSTART:20160327T010000
END:DAYLIGHT
BEGIN:STANDARD
TZOFFSETFROM:+0100
TZOFFSETTO:+0000
TZNAME:GMT
DTSTART:20161030T010000
END:STANDARD
BEGIN:DAYLIGHT
TZOFFSETFROM:+0000
TZOFFSETTO:+0100
TZNAME:BST
DTSTART:20170326T010000
END:DAYLIGHT
BEGIN:STANDARD
TZOFFSETFROM:+0100
TZOFFSETTO:+0000
TZNAME:GMT
DTSTART:20171029T010000
END:STANDARD
END:VTIMEZONE
BEGIN:VEVENT
DTSTART;TZID=Europe/London:20160904T090000
DTEND;TZID=Europe/London:20160904T130000
DTSTAMP:20260419T183904
CREATED:20160614T151709Z
LAST-MODIFIED:20160614T151709Z
UID:1084-1472979600-1472994000@www.gloscitycc.co.uk
SUMMARY:Cat B 3 Shires/Roses
DESCRIPTION:Leader Pete Lloyd. Lunch Staunton
URL:https://www.gloscitycc.co.uk/event/cat-b-3-shiresroses/
LOCATION:King’s Square\, 28 Oxebode\, Gloucester\, Gloucestershire\, GL1 1AD\, United Kingdom
CATEGORIES:Club Rides
ORGANIZER;CN="Toby Wooldridge":MAILTO:aw005b5340@blueyonder.co.uk
END:VEVENT
BEGIN:VEVENT
DTSTART;TZID=Europe/London:20160904T090000
DTEND;TZID=Europe/London:20160904T130000
DTSTAMP:20260419T183905
CREATED:20160614T151833Z
LAST-MODIFIED:20160926T140334Z
UID:1085-1472979600-1472994000@www.gloscitycc.co.uk
SUMMARY:Cat AA Harts Barn\, Longhope
DESCRIPTION:Leader Mark Beddall. Lunch Staunton with Cat B Ride
URL:https://www.gloscitycc.co.uk/event/cat-aa-harts-barn-longhope/
LOCATION:King’s Square\, 28 Oxebode\, Gloucester\, Gloucestershire\, GL1 1AD\, United Kingdom
CATEGORIES:Club Rides
ORGANIZER;CN="Toby Wooldridge":MAILTO:aw005b5340@blueyonder.co.uk
END:VEVENT
BEGIN:VEVENT
DTSTART;TZID=Europe/London:20160614T183000
DTEND;TZID=Europe/London:20160614T200000
DTSTAMP:20260419T183905
CREATED:20160603T115613Z
LAST-MODIFIED:20160824T155838Z
UID:705-1465929000-1465934400@www.gloscitycc.co.uk
SUMMARY:Chain Gang
DESCRIPTION:Race training on the A38 to Tewkesbury\, A438\, B4211 and A417. It’s a full on fast ride for 23 miles from Longford to Tewkesbury & back to Maisemore via Corse Lawn designed for riders capable of keeping up with serious amateurs for 20+ miles. Groups will split into different abilities as required but if you drop off you must be able and willing to find your own way home. \n 
URL:https://www.gloscitycc.co.uk/event/chain-gang/
LOCATION:Longford Inn\, Tewkesbury Road\, Longford Inn\, Gloucester\, GL2 9BE\, United Kingdom
CATEGORIES:Race Training
ATTACH;FMTTYPE=image/jpeg:https://www.gloscitycc.co.uk/wp-content/uploads/2016/06/20160823_182451-1.jpg
END:VEVENT
BEGIN:VEVENT
DTSTART;TZID=Europe/London:20160906T190000
DTEND;TZID=Europe/London:20160906T210000
DTSTAMP:20260419T183905
CREATED:20160614T104706Z
LAST-MODIFIED:20160614T141657Z
UID:1026-1473188400-1473195600@www.gloscitycc.co.uk
SUMMARY:Ride Out Gala Club
DESCRIPTION:
URL:https://www.gloscitycc.co.uk/event/ride-out-tbd-2016-09-06/
LOCATION:King’s Square\, 28 Oxebode\, Gloucester\, Gloucestershire\, GL1 1AD\, United Kingdom
CATEGORIES:Club Rides,Social
ORGANIZER;CN="Colin Edmonds":MAILTO:treasurergloscitycyclingclub@gmail.com
END:VEVENT
BEGIN:VEVENT
DTSTART;TZID=Europe/London:20160906T200000
DTEND;TZID=Europe/London:20160906T213000
DTSTAMP:20260419T183905
CREATED:20160614T114210Z
LAST-MODIFIED:20160618T142747Z
UID:1036-1473192000-1473197400@www.gloscitycc.co.uk
SUMMARY:Committee Meeting - Gala Club
DESCRIPTION:
URL:https://www.gloscitycc.co.uk/event/committee-meeting-gala-club-3/
LOCATION:Gloucestershire
CATEGORIES:Committee Meeting
END:VEVENT
BEGIN:VEVENT
DTSTART;TZID=Europe/London:20160908T093000
DTEND;TZID=Europe/London:20160908T160000
DTSTAMP:20260419T183906
CREATED:20160726T113409Z
LAST-MODIFIED:20160726T142351Z
UID:1203-1473327000-1473350400@www.gloscitycc.co.uk
SUMMARY:Watching the Tour of Britain
DESCRIPTION:We shall be riding out to watch the Tour of Britain. http://www.tourofbritain.co.uk/\n\nStage Five will prove to be another tough day on the road\, covering 205 kilometres and 3\,675m of climbing\, taking the Tour of Britain across South Wales and into Gloucestershire and the finish in the stunning UNESCO World Heritage city of Bath. Rolling out from Aberdare in Rhondda Cynon Taf the race will head east through Pontypool and Usk before running through the Forest of Dean and up along the Severn Estuary into Gloucester. Coming out of the cathedral city the riders will head south into the Cotswolds before passing through Stroud and Dursley as they make their way to the finish in the picturesque city of Bath\, the second time the modern race will have visited the city\, but the first time it has hosted a stage finish.\n\nDetails TBD
URL:https://www.gloscitycc.co.uk/event/watching-the-tour-of-britain/
LOCATION:Gloucestershire
CATEGORIES:Club Rides,Social
ORGANIZER;CN="Ian Wareing":MAILTO:secretary@gloscitycc.co.uk
END:VEVENT
BEGIN:VEVENT
DTSTART;TZID=Europe/London:20160911T080000
DTEND;TZID=Europe/London:20160911T160000
DTSTAMP:20260419T183906
CREATED:20160614T150801Z
LAST-MODIFIED:20160926T140238Z
UID:1080-1473580800-1473609600@www.gloscitycc.co.uk
SUMMARY:Cat C Batsford
DESCRIPTION:EARLY START. 1250 Event. Leader Gary Ridgway. Lunch Evesham/Charlton
URL:https://www.gloscitycc.co.uk/event/cat-c-batsford/
LOCATION:King’s Square\, 28 Oxebode\, Gloucester\, Gloucestershire\, GL1 1AD\, United Kingdom
CATEGORIES:Club Rides
ORGANIZER;CN="Toby Wooldridge":MAILTO:aw005b5340@blueyonder.co.uk
END:VEVENT
BEGIN:VEVENT
DTSTART;TZID=Europe/London:20160911T090000
DTEND;TZID=Europe/London:20160911T130000
DTSTAMP:20260419T183906
CREATED:20160614T150554Z
LAST-MODIFIED:20160926T140228Z
UID:1079-1473584400-1473598800@www.gloscitycc.co.uk
SUMMARY:Cat A Berkeley
DESCRIPTION:Leader Peter Davies. Lunch Stonehouse
URL:https://www.gloscitycc.co.uk/event/cat-a-berkeley/
LOCATION:King’s Square\, 28 Oxebode\, Gloucester\, Gloucestershire\, GL1 1AD\, United Kingdom
CATEGORIES:Club Rides
ORGANIZER;CN="Toby Wooldridge":MAILTO:aw005b5340@blueyonder.co.uk
END:VEVENT
BEGIN:VEVENT
DTSTART;TZID=Europe/London:20160614T183000
DTEND;TZID=Europe/London:20160614T200000
DTSTAMP:20260419T183906
CREATED:20160603T115613Z
LAST-MODIFIED:20160824T155838Z
UID:705-1465929000-1465934400@www.gloscitycc.co.uk
SUMMARY:Chain Gang
DESCRIPTION:Race training on the A38 to Tewkesbury\, A438\, B4211 and A417. It’s a full on fast ride for 23 miles from Longford to Tewkesbury & back to Maisemore via Corse Lawn designed for riders capable of keeping up with serious amateurs for 20+ miles. Groups will split into different abilities as required but if you drop off you must be able and willing to find your own way home. \n 
URL:https://www.gloscitycc.co.uk/event/chain-gang/
LOCATION:Longford Inn\, Tewkesbury Road\, Longford Inn\, Gloucester\, GL2 9BE\, United Kingdom
CATEGORIES:Race Training
ATTACH;FMTTYPE=image/jpeg:https://www.gloscitycc.co.uk/wp-content/uploads/2016/06/20160823_182451-1.jpg
END:VEVENT
BEGIN:VEVENT
DTSTART;TZID=Europe/London:20160913T190000
DTEND;TZID=Europe/London:20160913T210000
DTSTAMP:20260419T183907
CREATED:20160614T104706Z
LAST-MODIFIED:20160926T140216Z
UID:1027-1473793200-1473800400@www.gloscitycc.co.uk
SUMMARY:Ride Out Black Horse Cranham
DESCRIPTION:Off Road Option
URL:https://www.gloscitycc.co.uk/event/ride-out-tbd-2016-09-13/
LOCATION:King’s Square\, 28 Oxebode\, Gloucester\, Gloucestershire\, GL1 1AD\, United Kingdom
CATEGORIES:Club Rides,Social
ORGANIZER;CN="Colin Edmonds":MAILTO:treasurergloscitycyclingclub@gmail.com
END:VEVENT
BEGIN:VEVENT
DTSTART;TZID=Europe/London:20160918T090000
DTEND;TZID=Europe/London:20160918T130000
DTSTAMP:20260419T183907
CREATED:20160614T150121Z
LAST-MODIFIED:20160926T140204Z
UID:1077-1474189200-1474203600@www.gloscitycc.co.uk
SUMMARY:Cat B Croome Park
DESCRIPTION:Leader Neville. Lunch Lower Lode
URL:https://www.gloscitycc.co.uk/event/cat-b-croome-park/
LOCATION:King’s Square\, 28 Oxebode\, Gloucester\, Gloucestershire\, GL1 1AD\, United Kingdom
CATEGORIES:Club Rides
ORGANIZER;CN="Toby Wooldridge":MAILTO:aw005b5340@blueyonder.co.uk
END:VEVENT
BEGIN:VEVENT
DTSTART;TZID=Europe/London:20160918T090000
DTEND;TZID=Europe/London:20160918T130000
DTSTAMP:20260419T183907
CREATED:20160614T150401Z
LAST-MODIFIED:20160926T140150Z
UID:1078-1474189200-1474203600@www.gloscitycc.co.uk
SUMMARY:Cat AA Upton on Severn
DESCRIPTION:Leader John Cooke. Lunch Lower Lode with Cat B ride
URL:https://www.gloscitycc.co.uk/event/cat-aa-upton-on-severn/
LOCATION:King’s Square\, 28 Oxebode\, Gloucester\, Gloucestershire\, GL1 1AD\, United Kingdom
CATEGORIES:Club Rides
ORGANIZER;CN="Toby Wooldridge":MAILTO:aw005b5340@blueyonder.co.uk
END:VEVENT
BEGIN:VEVENT
DTSTART;TZID=Europe/London:20160920T070000
DTEND;TZID=Europe/London:20160920T210000
DTSTAMP:20260419T183907
CREATED:20160614T105818Z
LAST-MODIFIED:20160614T112414Z
UID:1032-1474354800-1474405200@www.gloscitycc.co.uk
SUMMARY:Ride Out Jolly Brewmaster Cheltenham
DESCRIPTION:
URL:https://www.gloscitycc.co.uk/event/ride-out-jolly-brewmaster-cheltenham/
LOCATION:King’s Square\, 28 Oxebode\, Gloucester\, Gloucestershire\, GL1 1AD\, United Kingdom
CATEGORIES:Club Rides,Social
ORGANIZER;CN="Colin Edmonds":MAILTO:treasurergloscitycyclingclub@gmail.com
END:VEVENT
BEGIN:VEVENT
DTSTART;TZID=Europe/London:20160614T183000
DTEND;TZID=Europe/London:20160614T200000
DTSTAMP:20260419T183908
CREATED:20160603T115613Z
LAST-MODIFIED:20160824T155838Z
UID:705-1465929000-1465934400@www.gloscitycc.co.uk
SUMMARY:Chain Gang
DESCRIPTION:Race training on the A38 to Tewkesbury\, A438\, B4211 and A417. It’s a full on fast ride for 23 miles from Longford to Tewkesbury & back to Maisemore via Corse Lawn designed for riders capable of keeping up with serious amateurs for 20+ miles. Groups will split into different abilities as required but if you drop off you must be able and willing to find your own way home. \n 
URL:https://www.gloscitycc.co.uk/event/chain-gang/
LOCATION:Longford Inn\, Tewkesbury Road\, Longford Inn\, Gloucester\, GL2 9BE\, United Kingdom
CATEGORIES:Race Training
ATTACH;FMTTYPE=image/jpeg:https://www.gloscitycc.co.uk/wp-content/uploads/2016/06/20160823_182451-1.jpg
END:VEVENT
BEGIN:VEVENT
DTSTART;TZID=Europe/London:20160925T090000
DTEND;TZID=Europe/London:20160925T130000
DTSTAMP:20260419T183908
CREATED:20160614T145843Z
LAST-MODIFIED:20160926T140132Z
UID:1075-1474794000-1474808400@www.gloscitycc.co.uk
SUMMARY:Cat B Broadway
DESCRIPTION:Leader Mike Hale. Lunch Piffs Elm Old Spot
URL:https://www.gloscitycc.co.uk/event/cat-b-broadway/
LOCATION:King’s Square\, 28 Oxebode\, Gloucester\, Gloucestershire\, GL1 1AD\, United Kingdom
CATEGORIES:Club Rides
ORGANIZER;CN="Toby Wooldridge":MAILTO:aw005b5340@blueyonder.co.uk
END:VEVENT
BEGIN:VEVENT
DTSTART;TZID=Europe/London:20160614T183000
DTEND;TZID=Europe/London:20160614T200000
DTSTAMP:20260419T183908
CREATED:20160603T115613Z
LAST-MODIFIED:20160824T155838Z
UID:705-1465929000-1465934400@www.gloscitycc.co.uk
SUMMARY:Chain Gang
DESCRIPTION:Race training on the A38 to Tewkesbury\, A438\, B4211 and A417. It’s a full on fast ride for 23 miles from Longford to Tewkesbury & back to Maisemore via Corse Lawn designed for riders capable of keeping up with serious amateurs for 20+ miles. Groups will split into different abilities as required but if you drop off you must be able and willing to find your own way home. \n 
URL:https://www.gloscitycc.co.uk/event/chain-gang/
LOCATION:Longford Inn\, Tewkesbury Road\, Longford Inn\, Gloucester\, GL2 9BE\, United Kingdom
CATEGORIES:Race Training
ATTACH;FMTTYPE=image/jpeg:https://www.gloscitycc.co.uk/wp-content/uploads/2016/06/20160823_182451-1.jpg
END:VEVENT
BEGIN:VEVENT
DTSTART;TZID=Europe/London:20160927T190000
DTEND;TZID=Europe/London:20160927T210000
DTSTAMP:20260419T183908
CREATED:20160614T105650Z
LAST-MODIFIED:20160926T135943Z
UID:1031-1475002800-1475010000@www.gloscitycc.co.uk
SUMMARY:Ride Out House in the Tree Staverton
DESCRIPTION:
URL:https://www.gloscitycc.co.uk/event/ride-out-house-in-the-tree-staverton/
LOCATION:King’s Square\, 28 Oxebode\, Gloucester\, Gloucestershire\, GL1 1AD\, United Kingdom
CATEGORIES:Club Rides,Social
ORGANIZER;CN="Colin Edmonds":MAILTO:treasurergloscitycyclingclub@gmail.com
END:VEVENT
END:VCALENDAR