BEGIN:VCALENDAR
VERSION:2.0
PRODID:-//Gloucester City Cycling Club - ECPv6.15.20//NONSGML v1.0//EN
CALSCALE:GREGORIAN
METHOD:PUBLISH
X-ORIGINAL-URL:https://www.gloscitycc.co.uk
X-WR-CALDESC:Events for Gloucester City Cycling Club
REFRESH-INTERVAL;VALUE=DURATION:PT1H
X-Robots-Tag:noindex
X-PUBLISHED-TTL:PT1H
BEGIN:VTIMEZONE
TZID:Europe/London
BEGIN:DAYLIGHT
TZOFFSETFROM:+0000
TZOFFSETTO:+0100
TZNAME:BST
DTSTART:20230326T010000
END:DAYLIGHT
BEGIN:STANDARD
TZOFFSETFROM:+0100
TZOFFSETTO:+0000
TZNAME:GMT
DTSTART:20231029T010000
END:STANDARD
BEGIN:DAYLIGHT
TZOFFSETFROM:+0000
TZOFFSETTO:+0100
TZNAME:BST
DTSTART:20240331T010000
END:DAYLIGHT
BEGIN:STANDARD
TZOFFSETFROM:+0100
TZOFFSETTO:+0000
TZNAME:GMT
DTSTART:20241027T010000
END:STANDARD
BEGIN:DAYLIGHT
TZOFFSETFROM:+0000
TZOFFSETTO:+0100
TZNAME:BST
DTSTART:20250330T010000
END:DAYLIGHT
BEGIN:STANDARD
TZOFFSETFROM:+0100
TZOFFSETTO:+0000
TZNAME:GMT
DTSTART:20251026T010000
END:STANDARD
END:VTIMEZONE
BEGIN:VEVENT
DTSTART;TZID=Europe/London:20240707T083000
DTEND;TZID=Europe/London:20240707T130000
DTSTAMP:20260420T013550
CREATED:20240403T112324Z
LAST-MODIFIED:20240403T131006Z
UID:21608-1720341000-1720357200@www.gloscitycc.co.uk
SUMMARY:Novice pace ride to Tewkesbury
DESCRIPTION:Sunday Rides depart from Kings Square Check the ride categories on our Which Ride? page to see whether this ride will suit you. The ride will stop for coffee at around eleven o’clock. Most riders then return to Gloucester to be home for lunch but there is an optional extension to take in a pub lunch.Today’s ride will coordinate with the National Championships Team Time Trial being promoted by the Club. \nCoffee Stop: Café au Chocolate \nPub Stop:The Shutters Inn \nAttendance at these stops wins points towards the Dancey Trophy. Details of the destinations can be found on our  list of coffee and pub stops \nYou may download ride details to your smart phone’s calendar (see buttons below) and can download the season’s rides as a pdf from here if you want a  hard copy. For a list of events like this one click on event tags below. \nPLEASE FIT YOUR BIKE WITH MUDGUARDS WHEN WEATHER CONDITIONS DICTATE \nSometimes weather or roadworks force a late change please check the News\, Facebook\, or the Whatsapp group for any last minute changes
URL:https://www.gloscitycc.co.uk/event/novice-pace-ride-to-tewkesbury/
LOCATION:King’s Square\, 28 Oxebode\, Gloucester\, Gloucestershire\, GL1 1AD\, United Kingdom
CATEGORIES:Club Rides
ORGANIZER;CN="Toby Wooldridge":MAILTO:aw005b5340@blueyonder.co.uk
END:VEVENT
BEGIN:VEVENT
DTSTART;TZID=Europe/London:20240707T090000
DTEND;TZID=Europe/London:20240707T130000
DTSTAMP:20260420T013550
CREATED:20240705T165905Z
LAST-MODIFIED:20240705T165908Z
UID:22237-1720342800-1720357200@www.gloscitycc.co.uk
SUMMARY:Fast (training) ride Welsh Way / Sapperton/Chalford
DESCRIPTION:“Fast Rides” are around three hours finishing with a coffee stop a coffee at the Roastery. Average Speed of about 18-20 mph. They will split into two groups\, to help with mixed abilities & to encourage new riders\, and to help anyone recovering from injuries. Once two groups are formed\, there is no need to wait at the climbs\, stay in two groups and if anyone falls off the faster group they will hopefully be picked up by the second group. \n \n“Fast Rides” DO NOT follow “Club Ride” practice\, in that although they always regroup after a climb\, participants must be prepared to be dropped on the run in back to Gloucester over the last 5-10 miles\, if it speeds up at the end of the ride. They do not usually stop for coffee until the end of the ride. Participants need to be capable of 20+ mph bunch riding for at least 3 hours. For an impression of the riding style check out a video of the Tuesday night Chain Gang If you would like to know about our other Sunday ride options see here and for a list of events similar to this one click on event tags below. \nPLEASE FIT YOUR BIKE WITH MUDGUARDS WHEN WEATHER CONDITIONS DICTATE
URL:https://www.gloscitycc.co.uk/event/fast-training-ride-2-30/
LOCATION:King’s Square\, 28 Oxebode\, Gloucester\, Gloucestershire\, GL1 1AD\, United Kingdom
CATEGORIES:Race Training
END:VEVENT
BEGIN:VEVENT
DTSTART;TZID=Europe/London:20240707T090000
DTEND;TZID=Europe/London:20240707T160000
DTSTAMP:20260420T013551
CREATED:20240403T112933Z
LAST-MODIFIED:20240705T063448Z
UID:21612-1720342800-1720368000@www.gloscitycc.co.uk
SUMMARY:Tempo ride to Avebury stones
DESCRIPTION:All Sunday Rides depart from Kings Square The Tempo Ride is at a faster pace than the usual Sunday Ride and will leave the Square at 9 am\, but will stop for coffee\, usually but not always at the same destination. Check the ride categories on our Which Ride? page to see whether this ride will suit you. The ride will stop for coffee at around eleven o’clock\, and have a second stop on the return.  Return to Gloucester will probably be around 16:00. \nCoffee Stop: The Summer Cafe \nPub Stop: TBD on return \nRoute below\, giving option of cutting short after coffee if weather dictates. \n  \nAttendance at these stops wins points towards the Dancey Trophy. Details of the destinations can be found on our  list of coffee and pub stops \nYou may download ride details to your smart phone’s calendar (see buttons below) and can download the season’s rides as a pdf from here if you want a  hard copy. For a list of events like this one click on event tags below. \nPLEASE FIT YOUR BIKE WITH MUDGUARDS WHEN WEATHER CONDITIONS DICTATE \nSometimes weather or roadworks force a late change please check the News\, Facebook\, or the Whatsapp group for any last minute changes
URL:https://www.gloscitycc.co.uk/event/tempo-ride-to-malmesbury/
LOCATION:King’s Square\, 28 Oxebode\, Gloucester\, Gloucestershire\, GL1 1AD\, United Kingdom
CATEGORIES:Club Rides
ORGANIZER;CN="Ian Wareing":MAILTO:secretary@gloscitycc.co.uk
END:VEVENT
END:VCALENDAR