BEGIN:VCALENDAR
VERSION:2.0
PRODID:-//Gloucester City Cycling Club - ECPv6.15.20//NONSGML v1.0//EN
CALSCALE:GREGORIAN
METHOD:PUBLISH
X-WR-CALNAME:Gloucester City Cycling Club
X-ORIGINAL-URL:https://www.gloscitycc.co.uk
X-WR-CALDESC:Events for Gloucester City Cycling Club
REFRESH-INTERVAL;VALUE=DURATION:PT1H
X-Robots-Tag:noindex
X-PUBLISHED-TTL:PT1H
BEGIN:VTIMEZONE
TZID:Europe/London
BEGIN:DAYLIGHT
TZOFFSETFROM:+0000
TZOFFSETTO:+0100
TZNAME:BST
DTSTART:20200329T010000
END:DAYLIGHT
BEGIN:STANDARD
TZOFFSETFROM:+0100
TZOFFSETTO:+0000
TZNAME:GMT
DTSTART:20201025T010000
END:STANDARD
BEGIN:DAYLIGHT
TZOFFSETFROM:+0000
TZOFFSETTO:+0100
TZNAME:BST
DTSTART:20210328T010000
END:DAYLIGHT
BEGIN:STANDARD
TZOFFSETFROM:+0100
TZOFFSETTO:+0000
TZNAME:GMT
DTSTART:20211031T010000
END:STANDARD
BEGIN:DAYLIGHT
TZOFFSETFROM:+0000
TZOFFSETTO:+0100
TZNAME:BST
DTSTART:20220327T010000
END:DAYLIGHT
BEGIN:STANDARD
TZOFFSETFROM:+0100
TZOFFSETTO:+0000
TZNAME:GMT
DTSTART:20221030T010000
END:STANDARD
END:VTIMEZONE
BEGIN:VEVENT
DTSTART;TZID=Europe/London:20210527T190000
DTEND;TZID=Europe/London:20210527T200000
DTSTAMP:20260419T152618
CREATED:20210213T174020Z
LAST-MODIFIED:20210524T172751Z
UID:12513-1622142000-1622145600@www.gloscitycc.co.uk
SUMMARY:Inter Club Evening 10 mile Time Trial on UC713 NOTE COURSE CHANGE
DESCRIPTION:Tonight’s event has been moved from the Teddington course because of road works. Worcester Road and Straight Lane have been closed to remove Cats Eyes etc. in preparation for resurfacing on Friday but we are advised that the road will be open on Thursday evening for the race. \nThe evening time trials count towards season long  competitions as noted in the event category below. These are the Club Events Best App Rounder (CEBAR)\, the overall winner of which is awarded the Paul Barnard Trophy\, and the Dan Knight Trophy. There are categores within the CEBAR competion for Ladies\, Seniors and Veteran riders in various age groups. \nThe event is open to non members for an additional charge of £1 to obtain day membership. \nIf a person is unable to time keep / organize it is their responsibility to swap duties and inform the Racing Secretary. \nFull season’s race calendar is available here
URL:https://www.gloscitycc.co.uk/event/inter-club-evening-time-trial-on-uc715/
LOCATION:Corse/Staunton (UC713)\, Corse TT start\, Corse\, Gloucestershire\, United Kingdom
CATEGORIES:Interclub event,Race
END:VEVENT
END:VCALENDAR