BEGIN:VCALENDAR
VERSION:2.0
PRODID:-//Gloucester City Cycling Club - ECPv6.15.20//NONSGML v1.0//EN
CALSCALE:GREGORIAN
METHOD:PUBLISH
X-WR-CALNAME:Gloucester City Cycling Club
X-ORIGINAL-URL:https://www.gloscitycc.co.uk
X-WR-CALDESC:Events for Gloucester City Cycling Club
REFRESH-INTERVAL;VALUE=DURATION:PT1H
X-Robots-Tag:noindex
X-PUBLISHED-TTL:PT1H
BEGIN:VTIMEZONE
TZID:Europe/London
BEGIN:DAYLIGHT
TZOFFSETFROM:+0000
TZOFFSETTO:+0100
TZNAME:BST
DTSTART:20170326T010000
END:DAYLIGHT
BEGIN:STANDARD
TZOFFSETFROM:+0100
TZOFFSETTO:+0000
TZNAME:GMT
DTSTART:20171029T010000
END:STANDARD
BEGIN:DAYLIGHT
TZOFFSETFROM:+0000
TZOFFSETTO:+0100
TZNAME:BST
DTSTART:20180325T010000
END:DAYLIGHT
BEGIN:STANDARD
TZOFFSETFROM:+0100
TZOFFSETTO:+0000
TZNAME:GMT
DTSTART:20181028T010000
END:STANDARD
BEGIN:DAYLIGHT
TZOFFSETFROM:+0000
TZOFFSETTO:+0100
TZNAME:BST
DTSTART:20190331T010000
END:DAYLIGHT
BEGIN:STANDARD
TZOFFSETFROM:+0100
TZOFFSETTO:+0000
TZNAME:GMT
DTSTART:20191027T010000
END:STANDARD
BEGIN:DAYLIGHT
TZOFFSETFROM:+0000
TZOFFSETTO:+0100
TZNAME:BST
DTSTART:20200329T010000
END:DAYLIGHT
BEGIN:STANDARD
TZOFFSETFROM:+0100
TZOFFSETTO:+0000
TZNAME:GMT
DTSTART:20201025T010000
END:STANDARD
END:VTIMEZONE
BEGIN:VEVENT
DTSTART;TZID=Europe/London:20181007T090000
DTEND;TZID=Europe/London:20181007T130000
DTSTAMP:20260419T171136
CREATED:20181001T160648Z
LAST-MODIFIED:20181001T160648Z
UID:6057-1538902800-1538917200@www.gloscitycc.co.uk
SUMMARY:Sports Ride
DESCRIPTION:The distance is typically 50 miles non stop (post ride coffee optional). Pace is brisk\, typically averaging 20mph or more. Route is posted on Facebook during the preceding week.
URL:https://www.gloscitycc.co.uk/event/sports-ride-16/
LOCATION:King’s Square\, 28 Oxebode\, Gloucester\, Gloucestershire\, GL1 1AD\, United Kingdom
CATEGORIES:Race Training
END:VEVENT
BEGIN:VEVENT
DTSTART;TZID=Europe/London:20190317T090000
DTEND;TZID=Europe/London:20190317T130000
DTSTAMP:20260419T171137
CREATED:20190130T185731Z
LAST-MODIFIED:20190130T185814Z
UID:6708-1552813200-1552827600@www.gloscitycc.co.uk
SUMMARY:AA category ride to Saul Junction
DESCRIPTION:Every Sunday the Club meets in Kings’ Square for a ride to take coffee at around eleven o’clock\, in today’s case at The Stables\, Saul Junction. Most riders then return to Gloucester to be home around one o’clock but there is an optional extension to take in a pub lunch at the Red Lion at Arlingham. Destinations are posted in advance and can be downloaded to your smart phone’s calendar (see buttons below) or as a pdf from here if you want a  hard copy. All rides count to the Dancey Trophy. Sign the attendance book or be noted as present at the coffee / lunch stop if you wish to compete. \nFor details of ride classifications see here and for a list of similar events click on event tags below. Details of the destinations can be found here \nPLEASE FIT YOUR BIKE WITH MUDGUARDS WHEN WEATHER CONDITIONS DICTATE
URL:https://www.gloscitycc.co.uk/event/aa-category-ride-to-saul-junction/
LOCATION:King’s Square\, 28 Oxebode\, Gloucester\, Gloucestershire\, GL1 1AD\, United Kingdom
CATEGORIES:Club Rides,Social
ORGANIZER;CN="Marilyn Barwood":MAILTO:marilyn.barwood@blueyonder.co.uk
END:VEVENT
BEGIN:VEVENT
DTSTART;TZID=Europe/London:20190317T090000
DTEND;TZID=Europe/London:20190317T130000
DTSTAMP:20260419T171137
CREATED:20190130T190048Z
LAST-MODIFIED:20190313T152417Z
UID:6711-1552813200-1552827600@www.gloscitycc.co.uk
SUMMARY:A category ride to Berkeley
DESCRIPTION:Every Sunday the Club meets in Kings’ Square for a ride to take coffee at around eleven o’clock\, in today’s case at the tea room in Berkeley. The Ride will be an A Ride\, avoiding main roads and climbs. Here is the proposed route out https://ridewithgps.com/routes/29349086   We may avoid the towpath section if the conditions dictate! There will probably be a B Ride breakaway if demand exists\, perhaps to take in the delights of Frocester or Selsley hills. \n\n\n\n\n\n\n\n\n\n\n\n\n\n\n\n\n\n\n\nMost riders then return to Gloucester to be home around one o’clock but there is an optional extension to take in a pub lunch. Here is the route back for those who wish to take lunch at the Red Lion in Arlingham https://ridewithgps.com/routes/29349346 Destinations are posted in advance and can be downloaded to your smart phone’s calendar (see buttons below) or as a pdf from here if you want a  hard copy. All rides count to the Dancey Trophy. Sign the attendance book or be noted as present at the coffee / lunch stop if you wish to compete. \nFor details of ride classifications see here and for a list of similar events click on event tags below. Details of the destinations can be found here \nPLEASE FIT YOUR BIKE WITH MUDGUARDS WHEN WEATHER CONDITIONS DICTATE
URL:https://www.gloscitycc.co.uk/event/b-category-ride-to-berkeley/
LOCATION:King’s Square\, 28 Oxebode\, Gloucester\, Gloucestershire\, GL1 1AD\, United Kingdom
CATEGORIES:Club Rides,Social
END:VEVENT
END:VCALENDAR