BEGIN:VCALENDAR
VERSION:2.0
PRODID:-//Gloucester City Cycling Club - ECPv6.15.20//NONSGML v1.0//EN
CALSCALE:GREGORIAN
METHOD:PUBLISH
X-ORIGINAL-URL:https://www.gloscitycc.co.uk
X-WR-CALDESC:Events for Gloucester City Cycling Club
REFRESH-INTERVAL;VALUE=DURATION:PT1H
X-Robots-Tag:noindex
X-PUBLISHED-TTL:PT1H
BEGIN:VTIMEZONE
TZID:Europe/London
BEGIN:DAYLIGHT
TZOFFSETFROM:+0000
TZOFFSETTO:+0100
TZNAME:BST
DTSTART:20170326T010000
END:DAYLIGHT
BEGIN:STANDARD
TZOFFSETFROM:+0100
TZOFFSETTO:+0000
TZNAME:GMT
DTSTART:20171029T010000
END:STANDARD
BEGIN:DAYLIGHT
TZOFFSETFROM:+0000
TZOFFSETTO:+0100
TZNAME:BST
DTSTART:20180325T010000
END:DAYLIGHT
BEGIN:STANDARD
TZOFFSETFROM:+0100
TZOFFSETTO:+0000
TZNAME:GMT
DTSTART:20181028T010000
END:STANDARD
BEGIN:DAYLIGHT
TZOFFSETFROM:+0000
TZOFFSETTO:+0100
TZNAME:BST
DTSTART:20190331T010000
END:DAYLIGHT
BEGIN:STANDARD
TZOFFSETFROM:+0100
TZOFFSETTO:+0000
TZNAME:GMT
DTSTART:20191027T010000
END:STANDARD
END:VTIMEZONE
BEGIN:VEVENT
DTSTART;TZID=Europe/London:20180922T090000
DTEND;TZID=Europe/London:20180922T130000
DTSTAMP:20260420T032350
CREATED:20180919T210816Z
LAST-MODIFIED:20180921T225938Z
UID:5948-1537606800-1537621200@www.gloscitycc.co.uk
SUMMARY:B ride to the Forest
DESCRIPTION:As you will be aware\, it is the Autumn 25 on Sunday Morning. In order for those helping out\, and anyone else interested\, to get a ride this weekend\, there will be a B ride from King’s Square into the Forest taking a roundabout route to coffee at Birdwood. That way\, it isn’t too far home before the rain starts.All welcome. \n\nhttps://ridewithgps.com/routes/28647184
URL:https://www.gloscitycc.co.uk/event/b-ride-to-the-forest/
LOCATION:King’s Square\, 28 Oxebode\, Gloucester\, Gloucestershire\, GL1 1AD\, United Kingdom
CATEGORIES:Club Rides
ORGANIZER;CN="Ian Wareing":MAILTO:secretary@gloscitycc.co.uk
END:VEVENT
END:VCALENDAR