BEGIN:VCALENDAR
VERSION:2.0
PRODID:-//Gloucester City Cycling Club - ECPv6.15.20//NONSGML v1.0//EN
CALSCALE:GREGORIAN
METHOD:PUBLISH
X-ORIGINAL-URL:https://www.gloscitycc.co.uk
X-WR-CALDESC:Events for Gloucester City Cycling Club
REFRESH-INTERVAL;VALUE=DURATION:PT1H
X-Robots-Tag:noindex
X-PUBLISHED-TTL:PT1H
BEGIN:VTIMEZONE
TZID:Europe/London
BEGIN:DAYLIGHT
TZOFFSETFROM:+0000
TZOFFSETTO:+0100
TZNAME:BST
DTSTART:20170326T010000
END:DAYLIGHT
BEGIN:STANDARD
TZOFFSETFROM:+0100
TZOFFSETTO:+0000
TZNAME:GMT
DTSTART:20171029T010000
END:STANDARD
BEGIN:DAYLIGHT
TZOFFSETFROM:+0000
TZOFFSETTO:+0100
TZNAME:BST
DTSTART:20180325T010000
END:DAYLIGHT
BEGIN:STANDARD
TZOFFSETFROM:+0100
TZOFFSETTO:+0000
TZNAME:GMT
DTSTART:20181028T010000
END:STANDARD
BEGIN:DAYLIGHT
TZOFFSETFROM:+0000
TZOFFSETTO:+0100
TZNAME:BST
DTSTART:20190331T010000
END:DAYLIGHT
BEGIN:STANDARD
TZOFFSETFROM:+0100
TZOFFSETTO:+0000
TZNAME:GMT
DTSTART:20191027T010000
END:STANDARD
END:VTIMEZONE
BEGIN:VEVENT
DTSTART;TZID=Europe/London:20180826T090000
DTEND;TZID=Europe/London:20180826T130000
DTSTAMP:20260419T170402
CREATED:20180529T162443Z
LAST-MODIFIED:20180824T114256Z
UID:5272-1535274000-1535288400@www.gloscitycc.co.uk
SUMMARY:Sports Ride
DESCRIPTION:Sports Rides every Sunday.The distance is typically 50 miles max non stop (post ride coffee optional).  Pace is brisk\, typically averaging 20mph or more. \nThe ride will head into the Malvern’s – Tewkesbury\, Pershore\, Upton upon seven\, Malvern\, Pendock back along the A417 as it’s bank holiday we won’t stop en route. If you have a Garmin please upload the route. \nhttps://ridewithgps.com/routes/28410003
URL:https://www.gloscitycc.co.uk/event/sports-ride-15-2018-08-26/
LOCATION:King’s Square\, 28 Oxebode\, Gloucester\, Gloucestershire\, GL1 1AD\, United Kingdom
CATEGORIES:Race Training
END:VEVENT
BEGIN:VEVENT
DTSTART;TZID=Europe/London:20180826T090000
DTEND;TZID=Europe/London:20180826T130000
DTSTAMP:20260419T170402
CREATED:20180531T191000Z
LAST-MODIFIED:20180531T191000Z
UID:5304-1535274000-1535288400@www.gloscitycc.co.uk
SUMMARY:Hayles Farm A or B ride
DESCRIPTION:For this Bank Holiday weekend\, we shall take coffee at Hayles Farm\, Winchcombe followed by an optional lunch at the Cheese Rollers in Shurdington. \nFor details of ride classifications see here and for a list of similar events click on event tags below. Details of the destinations can be found here
URL:https://www.gloscitycc.co.uk/event/hayles-farm-a-or-b-ride/
LOCATION:King’s Square\, 28 Oxebode\, Gloucester\, Gloucestershire\, GL1 1AD\, United Kingdom
CATEGORIES:Club Rides
END:VEVENT
END:VCALENDAR