BEGIN:VCALENDAR
VERSION:2.0
PRODID:-//Gloucester City Cycling Club - ECPv6.15.20//NONSGML v1.0//EN
CALSCALE:GREGORIAN
METHOD:PUBLISH
X-WR-CALNAME:Gloucester City Cycling Club
X-ORIGINAL-URL:https://www.gloscitycc.co.uk
X-WR-CALDESC:Events for Gloucester City Cycling Club
REFRESH-INTERVAL;VALUE=DURATION:PT1H
X-Robots-Tag:noindex
X-PUBLISHED-TTL:PT1H
BEGIN:VTIMEZONE
TZID:Europe/London
BEGIN:DAYLIGHT
TZOFFSETFROM:+0000
TZOFFSETTO:+0100
TZNAME:BST
DTSTART:20170326T010000
END:DAYLIGHT
BEGIN:STANDARD
TZOFFSETFROM:+0100
TZOFFSETTO:+0000
TZNAME:GMT
DTSTART:20171029T010000
END:STANDARD
BEGIN:DAYLIGHT
TZOFFSETFROM:+0000
TZOFFSETTO:+0100
TZNAME:BST
DTSTART:20180325T010000
END:DAYLIGHT
BEGIN:STANDARD
TZOFFSETFROM:+0100
TZOFFSETTO:+0000
TZNAME:GMT
DTSTART:20181028T010000
END:STANDARD
BEGIN:DAYLIGHT
TZOFFSETFROM:+0000
TZOFFSETTO:+0100
TZNAME:BST
DTSTART:20190331T010000
END:DAYLIGHT
BEGIN:STANDARD
TZOFFSETFROM:+0100
TZOFFSETTO:+0000
TZNAME:GMT
DTSTART:20191027T010000
END:STANDARD
END:VTIMEZONE
BEGIN:VEVENT
DTSTART;TZID=Europe/London:20180603T090000
DTEND;TZID=Europe/London:20180603T130000
DTSTAMP:20260420T130614
CREATED:20180528T095142Z
LAST-MODIFIED:20180528T095142Z
UID:5129-1528016400-1528030800@www.gloscitycc.co.uk
SUMMARY:Birdwood AA ride
DESCRIPTION:We shall take coffee at the garden centre whose details can be found on the Café and Pub Stops page followed by an optional lunch at the Red Hart in Blaisdon. \nFor details of ride classifications see here and for a list of similar events click on event tags below. Details of the destinations can be found here
URL:https://www.gloscitycc.co.uk/event/birdwood-aa-ride-3/
LOCATION:King’s Square\, 28 Oxebode\, Gloucester\, Gloucestershire\, GL1 1AD\, United Kingdom
CATEGORIES:Club Rides
END:VEVENT
BEGIN:VEVENT
DTSTART;TZID=Europe/London:20180603T090000
DTEND;TZID=Europe/London:20180603T130000
DTSTAMP:20260420T130614
CREATED:20180529T162443Z
LAST-MODIFIED:20180529T162443Z
UID:5259-1528016400-1528030800@www.gloscitycc.co.uk
SUMMARY:Sports Ride
DESCRIPTION:Sports Rides every Sunday.The distance is typically 50 miles max non stop (post ride coffee optional). Route is usually posted on Facebook a few days before the ride. Pace is brisk\, typically averaging 20mph or more.
URL:https://www.gloscitycc.co.uk/event/sports-ride-15/
LOCATION:King’s Square\, 28 Oxebode\, Gloucester\, Gloucestershire\, GL1 1AD\, United Kingdom
CATEGORIES:Race Training
END:VEVENT
BEGIN:VEVENT
DTSTART;TZID=Europe/London:20180603T090000
DTEND;TZID=Europe/London:20180603T133000
DTSTAMP:20260420T130614
CREATED:20180528T095835Z
LAST-MODIFIED:20180528T100634Z
UID:5131-1528016400-1528032600@www.gloscitycc.co.uk
SUMMARY:Lower Soudley B ride
DESCRIPTION:We shall take coffee at Dean Heritage Centre the whose details can be found on the Café and Pub Stops page. Some riders will continue to an optional lunch stop at the Red Hart in Blaisdon \nFor details of ride classifications see here and for a list of similar events click on event tags below.
URL:https://www.gloscitycc.co.uk/event/lower-soudley-b-ride/
LOCATION:King’s Square\, 28 Oxebode\, Gloucester\, Gloucestershire\, GL1 1AD\, United Kingdom
CATEGORIES:Club Rides
END:VEVENT
END:VCALENDAR