BEGIN:VCALENDAR
VERSION:2.0
PRODID:-//Gloucester City Cycling Club - ECPv6.15.20//NONSGML v1.0//EN
CALSCALE:GREGORIAN
METHOD:PUBLISH
X-WR-CALNAME:Gloucester City Cycling Club
X-ORIGINAL-URL:https://www.gloscitycc.co.uk
X-WR-CALDESC:Events for Gloucester City Cycling Club
REFRESH-INTERVAL;VALUE=DURATION:PT1H
X-Robots-Tag:noindex
X-PUBLISHED-TTL:PT1H
BEGIN:VTIMEZONE
TZID:Europe/London
BEGIN:DAYLIGHT
TZOFFSETFROM:+0000
TZOFFSETTO:+0100
TZNAME:BST
DTSTART:20200329T010000
END:DAYLIGHT
BEGIN:STANDARD
TZOFFSETFROM:+0100
TZOFFSETTO:+0000
TZNAME:GMT
DTSTART:20201025T010000
END:STANDARD
BEGIN:DAYLIGHT
TZOFFSETFROM:+0000
TZOFFSETTO:+0100
TZNAME:BST
DTSTART:20210328T010000
END:DAYLIGHT
BEGIN:STANDARD
TZOFFSETFROM:+0100
TZOFFSETTO:+0000
TZNAME:GMT
DTSTART:20211031T010000
END:STANDARD
BEGIN:DAYLIGHT
TZOFFSETFROM:+0000
TZOFFSETTO:+0100
TZNAME:BST
DTSTART:20220327T010000
END:DAYLIGHT
BEGIN:STANDARD
TZOFFSETFROM:+0100
TZOFFSETTO:+0000
TZNAME:GMT
DTSTART:20221030T010000
END:STANDARD
END:VTIMEZONE
BEGIN:VEVENT
DTSTART;TZID=Europe/London:20210718T090000
DTEND;TZID=Europe/London:20210718T130000
DTSTAMP:20260419T173738
CREATED:20210226T104320Z
LAST-MODIFIED:20210719T135645Z
UID:12574-1626598800-1626613200@www.gloscitycc.co.uk
SUMMARY:Training Ride Upleadon-Drybrook-Parkend
DESCRIPTION:Club rides\, Sport rides\, and Training rides have resumed and will be held on a normal basis\, with a coffee stop during or after the ride. Descriptions of each can be found on our WHICH RIDE? page. Details of the training ride will be posted here a day or two beforehand. \nRoute is HERE
URL:https://www.gloscitycc.co.uk/event/sport-ride-8-2021-06-20-2021-07-18/
LOCATION:King’s Square\, 28 Oxebode\, Gloucester\, Gloucestershire\, GL1 1AD\, United Kingdom
CATEGORIES:Race Training
END:VEVENT
END:VCALENDAR