BEGIN:VCALENDAR
VERSION:2.0
PRODID:-//Gloucester City Cycling Club - ECPv6.15.20//NONSGML v1.0//EN
CALSCALE:GREGORIAN
METHOD:PUBLISH
X-WR-CALNAME:Gloucester City Cycling Club
X-ORIGINAL-URL:https://www.gloscitycc.co.uk
X-WR-CALDESC:Events for Gloucester City Cycling Club
REFRESH-INTERVAL;VALUE=DURATION:PT1H
X-Robots-Tag:noindex
X-PUBLISHED-TTL:PT1H
BEGIN:VTIMEZONE
TZID:Europe/London
BEGIN:DAYLIGHT
TZOFFSETFROM:+0000
TZOFFSETTO:+0100
TZNAME:BST
DTSTART:20220327T010000
END:DAYLIGHT
BEGIN:STANDARD
TZOFFSETFROM:+0100
TZOFFSETTO:+0000
TZNAME:GMT
DTSTART:20221030T010000
END:STANDARD
BEGIN:DAYLIGHT
TZOFFSETFROM:+0000
TZOFFSETTO:+0100
TZNAME:BST
DTSTART:20230326T010000
END:DAYLIGHT
BEGIN:STANDARD
TZOFFSETFROM:+0100
TZOFFSETTO:+0000
TZNAME:GMT
DTSTART:20231029T010000
END:STANDARD
BEGIN:DAYLIGHT
TZOFFSETFROM:+0000
TZOFFSETTO:+0100
TZNAME:BST
DTSTART:20240331T010000
END:DAYLIGHT
BEGIN:STANDARD
TZOFFSETFROM:+0100
TZOFFSETTO:+0000
TZNAME:GMT
DTSTART:20241027T010000
END:STANDARD
END:VTIMEZONE
BEGIN:VEVENT
DTSTART;TZID=Europe/London:20231224T090000
DTEND;TZID=Europe/London:20231224T133000
DTSTAMP:20260420T035646
CREATED:20230818T115439Z
LAST-MODIFIED:20231103T163850Z
UID:20130-1703408400-1703424600@www.gloscitycc.co.uk
SUMMARY:Christmas Eve steady pace ride to the Pelican
DESCRIPTION:Sunday Rides depart from Kings Square\, USUALLY at 09:00 – but please check the Events Calendar\, News and/or Facebook because some longer rides start earlier\, and sometimes weather or roadworks force a late change. They stop for at around eleven o’clock. This ride will return to Gloucester to reach The Pelican Inn for a Christmas drink. \nDestinations are posted in advance and can be downloaded to your smart phone’s calendar (see buttons below) or as a pdf from here if you want a  hard copy. All rides count to the Dancey Trophy.  \nIf you would like to know more about what to expect on our Sunday rides see here and for a list of events similar to this one click on event tags below. Details of the destinations can be found here \nPLEASE FIT YOUR BIKE WITH MUDGUARDS WHEN WEATHER CONDITIONS DICTATE
URL:https://www.gloscitycc.co.uk/event/no-drop-club-ride-3-2023-05-07-20/
LOCATION:King’s Square\, 28 Oxebode\, Gloucester\, Gloucestershire\, GL1 1AD\, United Kingdom
CATEGORIES:Club Rides
ORGANIZER;CN="Toby Wooldridge":MAILTO:aw005b5340@blueyonder.co.uk
END:VEVENT
END:VCALENDAR