BEGIN:VCALENDAR
VERSION:2.0
PRODID:-//Gloucester City Cycling Club - ECPv6.15.20//NONSGML v1.0//EN
CALSCALE:GREGORIAN
METHOD:PUBLISH
X-WR-CALNAME:Gloucester City Cycling Club
X-ORIGINAL-URL:https://www.gloscitycc.co.uk
X-WR-CALDESC:Events for Gloucester City Cycling Club
REFRESH-INTERVAL;VALUE=DURATION:PT1H
X-Robots-Tag:noindex
X-PUBLISHED-TTL:PT1H
BEGIN:VTIMEZONE
TZID:Europe/London
BEGIN:DAYLIGHT
TZOFFSETFROM:+0000
TZOFFSETTO:+0100
TZNAME:BST
DTSTART:20160327T010000
END:DAYLIGHT
BEGIN:STANDARD
TZOFFSETFROM:+0100
TZOFFSETTO:+0000
TZNAME:GMT
DTSTART:20161030T010000
END:STANDARD
BEGIN:DAYLIGHT
TZOFFSETFROM:+0000
TZOFFSETTO:+0100
TZNAME:BST
DTSTART:20170326T010000
END:DAYLIGHT
BEGIN:STANDARD
TZOFFSETFROM:+0100
TZOFFSETTO:+0000
TZNAME:GMT
DTSTART:20171029T010000
END:STANDARD
BEGIN:DAYLIGHT
TZOFFSETFROM:+0000
TZOFFSETTO:+0100
TZNAME:BST
DTSTART:20180325T010000
END:DAYLIGHT
BEGIN:STANDARD
TZOFFSETFROM:+0100
TZOFFSETTO:+0000
TZNAME:GMT
DTSTART:20181028T010000
END:STANDARD
END:VTIMEZONE
BEGIN:VEVENT
DTSTART;TZID=Europe/London:20170604T090000
DTEND;TZID=Europe/London:20170604T130000
DTSTAMP:20260420T121631
CREATED:20170516T162239Z
LAST-MODIFIED:20170516T162239Z
UID:3124-1496566800-1496581200@www.gloscitycc.co.uk
SUMMARY:Birdwood club AA ride
DESCRIPTION:Ride will be led by Richard Pender. After coffee some will join the B ride at the Malmswick Arms. \nFor details of ride classifications see here and for a list of similar events click on event tags below
URL:https://www.gloscitycc.co.uk/event/birdwood-club-aa-ride/
LOCATION:King’s Square\, 28 Oxebode\, Gloucester\, Gloucestershire\, GL1 1AD\, United Kingdom
CATEGORIES:Club Rides
ORGANIZER;CN="Toby Wooldridge":MAILTO:aw005b5340@blueyonder.co.uk
END:VEVENT
END:VCALENDAR